BEGIN:VCALENDAR
VERSION:2.0
PRODID:-//houstonaudubon.org//NONSGML kigkonsult.se iCalcreator 2.30.10//
CALSCALE:GREGORIAN
METHOD:PUBLISH
UID:184b5d19-fa89-4a3d-97a2-3bbe4b6a81db
X-WR-CALDESC:
X-WR-RELCALID:a137c8496452db4938ac554e907c10e4
X-WR-TIMEZONE:America/Chicago
BEGIN:VTIMEZONE
TZID:America/Chicago
BEGIN:STANDARD
TZNAME:CST
DTSTART:20251102T020000
TZOFFSETFROM:-0500
TZOFFSETTO:-0600
RDATE:20261101T020000
RDATE:20271107T020000
END:STANDARD
BEGIN:DAYLIGHT
TZNAME:CDT
DTSTART:20260308T020000
TZOFFSETFROM:-0600
TZOFFSETTO:-0500
RDATE:20270314T020000
END:DAYLIGHT
END:VTIMEZONE
BEGIN:VEVENT
UID:b3fc0fa1-520c-4316-a47d-4172a000d0e8
DTSTAMP:20260424T190718Z
DESCRIPTION:
DTSTART;TZID=America/Chicago:20260623T070000
DTEND;TZID=America/Chicago:20260623T090000
LOCATION:David Braun Park at Lake Nassau
SUMMARY:Nassau Bay Wildlife Peninsula Survey
END:VEVENT
END:VCALENDAR
