BEGIN:VCALENDAR
VERSION:2.0
PRODID:-//houstonaudubon.org//NONSGML kigkonsult.se iCalcreator 2.30.10//
CALSCALE:GREGORIAN
METHOD:PUBLISH
UID:81a1e5d8-c920-4daf-b694-edc033000d4a
X-WR-CALDESC:
X-WR-RELCALID:dfd1f0c1cd71fbbaee7d9c8f2262f88c
X-WR-TIMEZONE:America/Chicago
BEGIN:VTIMEZONE
TZID:America/Chicago
BEGIN:STANDARD
TZNAME:CST
DTSTART:20251102T020000
TZOFFSETFROM:-0500
TZOFFSETTO:-0600
RDATE:20261101T020000
RDATE:20271107T020000
END:STANDARD
BEGIN:DAYLIGHT
TZNAME:CDT
DTSTART:20260308T020000
TZOFFSETFROM:-0600
TZOFFSETTO:-0500
RDATE:20270314T020000
END:DAYLIGHT
END:VTIMEZONE
BEGIN:VEVENT
UID:16e9b423-540b-4c08-bcd5-3ae5e8338cb2
DTSTAMP:20260424T191043Z
DESCRIPTION:
DTSTART;TZID=America/Chicago:20260622T073000
DTEND;TZID=America/Chicago:20260622T110000
LOCATION:Archbishop Fiorenza Park
SUMMARY:Archbishop Fiorenza Bird Survey
END:VEVENT
END:VCALENDAR
