BEGIN:VCALENDAR
VERSION:2.0
PRODID:-//houstonaudubon.org//NONSGML kigkonsult.se iCalcreator 2.30.10//
CALSCALE:GREGORIAN
METHOD:PUBLISH
UID:ac80ee2f-dced-4bc2-98e0-17e52cc180f2
X-WR-CALDESC:
X-WR-RELCALID:b7c1417648159ea2149380a85d497d2c
X-WR-TIMEZONE:America/Chicago
BEGIN:VTIMEZONE
TZID:America/Chicago
BEGIN:STANDARD
TZNAME:CST
DTSTART:20251102T020000
TZOFFSETFROM:-0500
TZOFFSETTO:-0600
RDATE:20261101T020000
RDATE:20271107T020000
END:STANDARD
BEGIN:DAYLIGHT
TZNAME:CDT
DTSTART:20260308T020000
TZOFFSETFROM:-0600
TZOFFSETTO:-0500
RDATE:20270314T020000
END:DAYLIGHT
END:VTIMEZONE
BEGIN:VEVENT
UID:94305aa6-a3b1-4daf-815b-64e40366e601
DTSTAMP:20260424T171627Z
DESCRIPTION:
DTSTART;TZID=America/Chicago:20260613T070000
DTEND;TZID=America/Chicago:20260613T100000
LOCATION:Armand Bayou Nature Center
SUMMARY:Armand Bayou Bird Survey
END:VEVENT
END:VCALENDAR
