BEGIN:VCALENDAR
VERSION:2.0
PRODID:-//houstonaudubon.org//NONSGML kigkonsult.se iCalcreator 2.30.10//
CALSCALE:GREGORIAN
METHOD:PUBLISH
UID:a69e9042-cbf6-42c3-97c1-97bb4e12f3bf
X-WR-CALDESC:
X-WR-RELCALID:142d30e296ee6d9c5a59246cc8a46d17
X-WR-TIMEZONE:America/Chicago
BEGIN:VTIMEZONE
TZID:America/Chicago
BEGIN:STANDARD
TZNAME:CST
DTSTART:20251102T020000
TZOFFSETFROM:-0500
TZOFFSETTO:-0600
RDATE:20261101T020000
RDATE:20271107T020000
END:STANDARD
BEGIN:DAYLIGHT
TZNAME:CDT
DTSTART:20260308T020000
TZOFFSETFROM:-0600
TZOFFSETTO:-0500
RDATE:20270314T020000
END:DAYLIGHT
END:VTIMEZONE
BEGIN:VEVENT
UID:6daf2788-0d64-4d87-831a-fd6a7c3e8c39
DTSTAMP:20260424T190847Z
DESCRIPTION:
DTSTART;TZID=America/Chicago:20260609T070000
DTEND;TZID=America/Chicago:20260609T100000
LOCATION:Exploration Green\, Clear Lake
SUMMARY:Exploration Green Survey
END:VEVENT
END:VCALENDAR
