BEGIN:VCALENDAR
VERSION:2.0
PRODID:-//houstonaudubon.org//NONSGML kigkonsult.se iCalcreator 2.30.10//
CALSCALE:GREGORIAN
METHOD:PUBLISH
UID:33d2d8a6-2cba-4c12-a423-6e966d683e9a
X-WR-CALDESC:
X-WR-RELCALID:a08e9e8360141c715f7677e38a158780
X-WR-TIMEZONE:America/Chicago
BEGIN:VTIMEZONE
TZID:America/Chicago
BEGIN:STANDARD
TZNAME:CST
DTSTART:20251102T020000
TZOFFSETFROM:-0500
TZOFFSETTO:-0600
RDATE:20261101T020000
RDATE:20271107T020000
END:STANDARD
BEGIN:DAYLIGHT
TZNAME:CDT
DTSTART:20260308T020000
TZOFFSETFROM:-0600
TZOFFSETTO:-0500
RDATE:20270314T020000
END:DAYLIGHT
END:VTIMEZONE
BEGIN:VEVENT
UID:5b6cb8bb-e3f8-42f1-80ba-d58a6339c099
DTSTAMP:20260424T171532Z
DESCRIPTION:
DTSTART;TZID=America/Chicago:20260605T070000
DTEND;TZID=America/Chicago:20260605T090000
LOCATION:Moody Gardens\, Galveston
SUMMARY:Moody Gardens Bird Survey
END:VEVENT
END:VCALENDAR
