BEGIN:VCALENDAR
VERSION:2.0
PRODID:-//houstonaudubon.org//NONSGML kigkonsult.se iCalcreator 2.30.10//
CALSCALE:GREGORIAN
METHOD:PUBLISH
UID:d9674f1d-33ee-45ca-adc5-d3a65f04a6da
X-WR-CALDESC:
X-WR-RELCALID:9e9fdbb7a2e548f5e853af1f9a67ef7c
X-WR-TIMEZONE:America/Chicago
BEGIN:VTIMEZONE
TZID:America/Chicago
BEGIN:STANDARD
TZNAME:CST
DTSTART:20251102T020000
TZOFFSETFROM:-0500
TZOFFSETTO:-0600
RDATE:20261101T020000
RDATE:20271107T020000
END:STANDARD
BEGIN:DAYLIGHT
TZNAME:CDT
DTSTART:20260308T020000
TZOFFSETFROM:-0600
TZOFFSETTO:-0500
RDATE:20270314T020000
END:DAYLIGHT
END:VTIMEZONE
BEGIN:VEVENT
UID:4aae846c-782f-459d-85f9-ffd73eca78ea
DTSTAMP:20260423T213009Z
DESCRIPTION:
DTSTART;TZID=America/Chicago:20260602T070000
DTEND;TZID=America/Chicago:20260602T100000
LOCATION:Sweetwater Nature Preserve\, Galveston
SUMMARY:Sweetwater Nature Preserve Survey
END:VEVENT
END:VCALENDAR
