BEGIN:VCALENDAR
VERSION:2.0
PRODID:-//houstonaudubon.org//NONSGML kigkonsult.se iCalcreator 2.30.10//
CALSCALE:GREGORIAN
METHOD:PUBLISH
UID:0061734f-84d0-437c-ae93-751dfeaaafa8
X-WR-CALDESC:
X-WR-RELCALID:6f75395c0869898fb9a7b832fd79eafc
X-WR-TIMEZONE:America/Chicago
BEGIN:VTIMEZONE
TZID:America/Chicago
BEGIN:STANDARD
TZNAME:CST
DTSTART:20251102T020000
TZOFFSETFROM:-0500
TZOFFSETTO:-0600
RDATE:20261101T020000
RDATE:20271107T020000
END:STANDARD
BEGIN:DAYLIGHT
TZNAME:CDT
DTSTART:20260308T020000
TZOFFSETFROM:-0600
TZOFFSETTO:-0500
RDATE:20270314T020000
END:DAYLIGHT
END:VTIMEZONE
BEGIN:VEVENT
UID:4599c0e9-6d2f-4644-89b7-d6330c392eaf
DTSTAMP:20260422T203445Z
DESCRIPTION:
DTSTART;TZID=America/Chicago:20260601T070000
DTEND;TZID=America/Chicago:20260601T090000
LOCATION:Kickerillo-Mischer Preserve
SUMMARY:Kickerillo-Mischer Bird Survey
END:VEVENT
END:VCALENDAR
