BEGIN:VCALENDAR
VERSION:2.0
PRODID:-//houstonaudubon.org//NONSGML kigkonsult.se iCalcreator 2.30.10//
CALSCALE:GREGORIAN
METHOD:PUBLISH
UID:16e2d857-d6d4-4de8-9f20-f30cc8985cea
X-WR-CALDESC:The guided bike ride along the 4-mile Columbia Tap Hike & Bike
  Trail will be led and supported by avid birders and will involve educatio
 nal material regarding: how to bird in an urban environment\, how to suppo
 rt birds you might find in your backyard (food\, water\, shelter)\, how pu
 blic greenspaces can sustain bird & wildlife population. Remember to bring
  a reusable water and binoculars if you have them. A limited number of bin
 oculars will be available on a first-come\, first-serve basis. Need a bike
 ? Just reach out to Friends of Columbia Tap in advance to borrow one at fr
 iendsofcolumbiatap@gmail.com\n\nPlease register at the link below for this
  free event.
X-WR-RELCALID:15b28f5ee4d0287971f0724237d46b41
X-WR-TIMEZONE:America/Chicago
BEGIN:VTIMEZONE
TZID:America/Chicago
BEGIN:STANDARD
TZNAME:CST
DTSTART:20251102T020000
TZOFFSETFROM:-0500
TZOFFSETTO:-0600
RDATE:20261101T020000
RDATE:20271107T020000
END:STANDARD
BEGIN:DAYLIGHT
TZNAME:CDT
DTSTART:20260308T020000
TZOFFSETFROM:-0600
TZOFFSETTO:-0500
RDATE:20270314T020000
END:DAYLIGHT
END:VTIMEZONE
BEGIN:VEVENT
UID:157385da-3f91-471e-b205-2594b27496f3
DTSTAMP:20260421T002209Z
DESCRIPTION:The guided bike ride along the 4-mile Columbia Tap Hike & Bike 
 Trail will be led and supported by avid birders and will involve education
 al material regarding: how to bird in an urban environment\, how to suppor
 t birds you might find in your backyard (food\, water\, shelter)\, how pub
 lic greenspaces can sustain bird & wildlife population. Remember to bring 
 a reusable water and binoculars if you have them. A limited number of bino
 culars will be available on a first-come\, first-serve basis. Need a bike?
  Just reach out to Friends of Columbia Tap in advance to borrow one at fri
 endsofcolumbiatap@gmail.com\n\nPlease register at the link below for this 
 free event.
DTSTART;TZID=America/Chicago:20260516T090000
DTEND;TZID=America/Chicago:20260516T103000
LOCATION:Columbia Tap Hike & Bike Trail
SUMMARY:Bird & Bike the Columbia Tap
END:VEVENT
END:VCALENDAR
