BEGIN:VCALENDAR
VERSION:2.0
PRODID:-//houstonaudubon.org//NONSGML kigkonsult.se iCalcreator 2.30.10//
CALSCALE:GREGORIAN
METHOD:PUBLISH
UID:44a8162e-d74b-4fb4-aafa-9cba2ca1feb8
X-WR-CALDESC:Come celebrate <a href='https://www.migratorybirdday.org/'>Wor
 ld Migratory Bird Day</a> and <a href='https://www.thirdwardblooms.com/'>T
 hird Ward Blooms</a> six-month anniversary with us by connecting with comm
 unity and nature! In partnership with <a href='https://projectrowhouses.or
 g/'>Project Row Houses</a>\, we’ll be planting native plants at the beauti
 ful garden space behind Third Ward Blooms. Following the planting\, we’ll 
 be walking around the block to see what birds we can find. A limited numbe
 r of binoculars will be provided.
X-WR-RELCALID:7a1fc5102b74e30fcb4f5747467c42c7
X-WR-TIMEZONE:America/Chicago
BEGIN:VTIMEZONE
TZID:America/Chicago
BEGIN:STANDARD
TZNAME:CST
DTSTART:20251102T020000
TZOFFSETFROM:-0500
TZOFFSETTO:-0600
RDATE:20261101T020000
RDATE:20271107T020000
END:STANDARD
BEGIN:DAYLIGHT
TZNAME:CDT
DTSTART:20260308T020000
TZOFFSETFROM:-0600
TZOFFSETTO:-0500
RDATE:20270314T020000
END:DAYLIGHT
END:VTIMEZONE
BEGIN:VEVENT
UID:2bc8c276-606d-4a30-820d-99e2210c1f86
DTSTAMP:20260421T233059Z
DESCRIPTION:Come celebrate <a href='https://www.migratorybirdday.org/'>Worl
 d Migratory Bird Day</a> and <a href='https://www.thirdwardblooms.com/'>Th
 ird Ward Blooms</a> six-month anniversary with us by connecting with commu
 nity and nature! In partnership with <a href='https://projectrowhouses.org
 /'>Project Row Houses</a>\, we’ll be planting native plants at the beautif
 ul garden space behind Third Ward Blooms. Following the planting\, we’ll b
 e walking around the block to see what birds we can find. A limited number
  of binoculars will be provided.
DTSTART;TZID=America/Chicago:20260509T100000
DTEND;TZID=America/Chicago:20260509T120000
LOCATION:Third Ward Blooms
SUMMARY:World Migratory Bird Day – Birding Around the Block
END:VEVENT
END:VCALENDAR
