BEGIN:VCALENDAR
VERSION:2.0
PRODID:-//houstonaudubon.org//NONSGML kigkonsult.se iCalcreator 2.30.10//
CALSCALE:GREGORIAN
METHOD:PUBLISH
UID:db51a361-c46e-4a12-9930-7bcbd33dd9ab
X-WR-CALDESC:Houston Audubon will be joining the Zoo Crew Bird-Saving Campa
 ign on May 9\, 10 am - 2 pm\, for World Migratory Bird Day as we highlight
  different ways you can help migratory birds in the wild. Activities will 
 include a bird migration game\, as well as educational resources on how yo
 u can help save birds through small actions like bird-safe windows and pol
 linator gardens
X-WR-RELCALID:563f1bfe7f757c98bc5ef219f92bc286
X-WR-TIMEZONE:America/Chicago
BEGIN:VTIMEZONE
TZID:America/Chicago
BEGIN:STANDARD
TZNAME:CST
DTSTART:20251102T020000
TZOFFSETFROM:-0500
TZOFFSETTO:-0600
RDATE:20261101T020000
RDATE:20271107T020000
END:STANDARD
BEGIN:DAYLIGHT
TZNAME:CDT
DTSTART:20260308T020000
TZOFFSETFROM:-0600
TZOFFSETTO:-0500
RDATE:20270314T020000
END:DAYLIGHT
END:VTIMEZONE
BEGIN:VEVENT
UID:96749e52-a8b9-4c6d-8426-c73790fe47ad
DTSTAMP:20260425T002750Z
DESCRIPTION:Houston Audubon will be joining the Zoo Crew Bird-Saving Campai
 gn on May 9\, 10 am - 2 pm\, for World Migratory Bird Day as we highlight 
 different ways you can help migratory birds in the wild. Activities will i
 nclude a bird migration game\, as well as educational resources on how you
  can help save birds through small actions like bird-safe windows and poll
 inator gardens
DTSTART;TZID=America/Chicago:20260509T100000
DTEND;TZID=America/Chicago:20260509T140000
LOCATION:Houston Zoo
SUMMARY:World Migratory Bird Day at the Houston Zoo
END:VEVENT
END:VCALENDAR
