BEGIN:VCALENDAR
VERSION:2.0
PRODID:-//houstonaudubon.org//NONSGML kigkonsult.se iCalcreator 2.30.10//
CALSCALE:GREGORIAN
METHOD:PUBLISH
UID:b0de36de-c69e-4865-a278-b61dcd4db10f
X-WR-CALDESC:
X-WR-RELCALID:2f41e8cf3fdaf4d613edce6cee8dea48
X-WR-TIMEZONE:America/Chicago
BEGIN:VTIMEZONE
TZID:America/Chicago
BEGIN:STANDARD
TZNAME:CST
DTSTART:20251102T020000
TZOFFSETFROM:-0500
TZOFFSETTO:-0600
RDATE:20261101T020000
END:STANDARD
BEGIN:DAYLIGHT
TZNAME:CDT
DTSTART:20260308T020000
TZOFFSETFROM:-0600
TZOFFSETTO:-0500
RDATE:20270314T020000
END:DAYLIGHT
END:VTIMEZONE
BEGIN:VEVENT
UID:bfe602ec-2ee7-416b-8da5-56170ceaffca
DTSTAMP:20260423T212827Z
DESCRIPTION:
DTSTART;TZID=America/Chicago:20260507T173000
DTEND;TZID=America/Chicago:20260507T183000
LOCATION:Lorraine Cherry Nature Preserve
SUMMARY:Lorraine Cherry Bird Walk
END:VEVENT
END:VCALENDAR
