BEGIN:VCALENDAR
VERSION:2.0
PRODID:-//houstonaudubon.org//NONSGML kigkonsult.se iCalcreator 2.30.10//
CALSCALE:GREGORIAN
METHOD:PUBLISH
UID:cbfa5960-c108-4ce3-97f6-92835c8e7215
X-WR-CALDESC:
X-WR-RELCALID:3069ef4d31d8af56ab9ab667461f2b52
X-WR-TIMEZONE:America/Chicago
BEGIN:VTIMEZONE
TZID:America/Chicago
BEGIN:STANDARD
TZNAME:CST
DTSTART:20251102T020000
TZOFFSETFROM:-0500
TZOFFSETTO:-0600
RDATE:20261101T020000
END:STANDARD
BEGIN:DAYLIGHT
TZNAME:CDT
DTSTART:20260308T020000
TZOFFSETFROM:-0600
TZOFFSETTO:-0500
RDATE:20270314T020000
END:DAYLIGHT
END:VTIMEZONE
BEGIN:VEVENT
UID:13097fec-964b-4c44-88a4-47a051c46ec8
DTSTAMP:20260419T150723Z
DESCRIPTION:
DTSTART;TZID=America/Chicago:20260502T100000
DTEND;TZID=America/Chicago:20260502T120000
LOCATION:Bolivar Flats Shorebird Sanctuary
SUMMARY:Bolivar Beach Ramble
END:VEVENT
END:VCALENDAR
