BEGIN:VCALENDAR
VERSION:2.0
PRODID:-//houstonaudubon.org//NONSGML kigkonsult.se iCalcreator 2.30.10//
CALSCALE:GREGORIAN
METHOD:PUBLISH
UID:ffc37bdd-5081-47ee-8092-392f44c651ff
X-WR-CALDESC:
X-WR-RELCALID:0c7f82b5da78232def44494c9863e5cd
X-WR-TIMEZONE:America/Chicago
BEGIN:VTIMEZONE
TZID:America/Chicago
BEGIN:STANDARD
TZNAME:CST
DTSTART:20251102T020000
TZOFFSETFROM:-0500
TZOFFSETTO:-0600
RDATE:20261101T020000
END:STANDARD
BEGIN:DAYLIGHT
TZNAME:CDT
DTSTART:20260308T020000
TZOFFSETFROM:-0600
TZOFFSETTO:-0500
RDATE:20270314T020000
END:DAYLIGHT
END:VTIMEZONE
BEGIN:VEVENT
UID:e13be793-2c03-4aea-8bed-547978dd1313
DTSTAMP:20260419T151723Z
DESCRIPTION:
DTSTART;TZID=America/Chicago:20260425T070000
DTEND;TZID=America/Chicago:20260425T090000
LOCATION:UH Coastal Center
SUMMARY:UH Coastal Center Survey
END:VEVENT
END:VCALENDAR
