BEGIN:VCALENDAR
VERSION:2.0
PRODID:-//houstonaudubon.org//NONSGML kigkonsult.se iCalcreator 2.30.10//
CALSCALE:GREGORIAN
METHOD:PUBLISH
UID:99067515-6ff8-4227-b2e8-43ad16d1f915
X-WR-CALDESC:
X-WR-RELCALID:7bf2d7248e45700c81c5a53db1ab9d13
X-WR-TIMEZONE:America/Chicago
BEGIN:VTIMEZONE
TZID:America/Chicago
BEGIN:STANDARD
TZNAME:CST
DTSTART:20251102T020000
TZOFFSETFROM:-0500
TZOFFSETTO:-0600
RDATE:20261101T020000
END:STANDARD
BEGIN:DAYLIGHT
TZNAME:CDT
DTSTART:20260308T020000
TZOFFSETFROM:-0600
TZOFFSETTO:-0500
RDATE:20270314T020000
END:DAYLIGHT
END:VTIMEZONE
BEGIN:VEVENT
UID:e4b2463a-02a5-470f-a59f-4f3996682c37
DTSTAMP:20260424T143343Z
DESCRIPTION:
DTSTART;TZID=America/Chicago:20260425T110000
DTEND;TZID=America/Chicago:20260425T113000
LOCATION:Smith Oaks Rookery
SUMMARY:Rookery Flock Talk
END:VEVENT
END:VCALENDAR
