BEGIN:VCALENDAR
VERSION:2.0
PRODID:-//houstonaudubon.org//NONSGML kigkonsult.se iCalcreator 2.30.10//
CALSCALE:GREGORIAN
METHOD:PUBLISH
UID:7c95499d-5f4f-4109-9759-79519c88e811
X-WR-CALDESC:City Nature Challenge is an annual international bioblitz wher
 e cities engage in a friendly competition to see who can gather the most o
 bservations of nature\, find the most species\, and engage the most people
 . This is a 2-part event that starts with an observation period (April 24-
 27\, 2026) and is followed by an identification period (April 28-May 10\, 
 2026). All you need to do to take part is find wildlife (plants\, animals\
 , or any evidence of life)\, take a picture (note the location)\, and shar
 e your observations through iNaturalist!\n\nContribute to science by docum
 enting the biodiversity that makes our area so special. We especially need
  your help with more bird observations. Below you'll find a PDF on how to 
 export your eBird data to iNaturalist.\n\nHouston Audubon's Bolivar Penins
 ula and High Island sanctuaries are included in the Houston-Galveston coun
 t!\n\nHereâ€™s how to participate:\n\nâ€¢	Create an account on iNaturalist.org
 \nânâ	Use your phone or a camera and desktop computer to upload observations 
 of wild plants\, fungi\, and animals onto iNaturalist April 24-27\, 2026. 
 Any evidence of life counts\, including slime mold. \nâ€¢	Do you have particu
 lar knowledge about plants\, birds\, fungi\, insects\, etc? Explore the th
 ousands of observations that will be made\, and help provide accurate iden
 tifications from the comfort of your home. \n\nResults are announced on We
 dnesday\, May 13\, 2026\n
X-WR-RELCALID:d0d818474ddff7cd4f5c383edc59fe0c
X-WR-TIMEZONE:America/Chicago
BEGIN:VTIMEZONE
TZID:America/Chicago
BEGIN:STANDARD
TZNAME:CST
DTSTART:20251102T020000
TZOFFSETFROM:-0500
TZOFFSETTO:-0600
RDATE:20261101T020000
END:STANDARD
BEGIN:DAYLIGHT
TZNAME:CDT
DTSTART:20260308T020000
TZOFFSETFROM:-0600
TZOFFSETTO:-0500
RDATE:20270314T020000
END:DAYLIGHT
END:VTIMEZONE
BEGIN:VEVENT
UID:c061d303-bedd-4330-8065-4700901c34c3
DTSTAMP:20260422T155132Z
DESCRIPTION:City Nature Challenge is an annual international bioblitz where
  cities engage in a friendly competition to see who can gather the most ob
 servations of nature\, find the most species\, and engage the most people.
  This is a 2-part event that starts with an observation period (April 24-2
 7\, 2026) and is followed by an identification period (April 28-May 10\, 2
 026). All you need to do to take part is find wildlife (plants\, animals\,
  or any evidence of life)\, take a picture (note the location)\, and share
  your observations through iNaturalist!\n\nContribute to science by docume
 nting the biodiversity that makes our area so special. We especially need 
 your help with more bird observations. Below you'll find a PDF on how to e
 xport your eBird data to iNaturalist.\n\nHouston Audubon's Bolivar Peninsu
 la and High Island sanctuaries are included in the Houston-Galveston count
 !\n\nHereâ€™s how to participate:\n\nâ€¢	Create an account on iNaturalist.org\n
 â€¢	Use your phone or a camera and desktop computer to upload observations of
  wild plants\, fungi\, and animals onto iNaturalist April 24-27\, 2026. An
 y evidence of life counts\, including slime mold. \nâ€¢	Do you have particula
 r knowledge about plants\, birds\, fungi\, insects\, etc? Explore the thou
 sands of observations that will be made\, and help provide accurate identi
 fications from the comfort of your home. \n\nResults are announced on Wedn
 esday\, May 13\, 2026\n
DTSTART;TZID=America/Chicago:20260424T050000
DTEND;TZID=America/Chicago:20260424T050001
LOCATION:Houston-Galveston
SUMMARY:City Nature Challenge
END:VEVENT
END:VCALENDAR
