BEGIN:VCALENDAR
VERSION:2.0
PRODID:-//houstonaudubon.org//NONSGML kigkonsult.se iCalcreator 2.30.10//
CALSCALE:GREGORIAN
METHOD:PUBLISH
UID:f29426b1-7cf3-48c4-957c-45e7ae5644f3
X-WR-CALDESC:
X-WR-RELCALID:c9ec3f1687b775ba45305f94a9129b34
X-WR-TIMEZONE:America/Chicago
BEGIN:VTIMEZONE
TZID:America/Chicago
BEGIN:STANDARD
TZNAME:CST
DTSTART:20251102T020000
TZOFFSETFROM:-0500
TZOFFSETTO:-0600
RDATE:20261101T020000
END:STANDARD
BEGIN:DAYLIGHT
TZNAME:CDT
DTSTART:20260308T020000
TZOFFSETFROM:-0600
TZOFFSETTO:-0500
RDATE:20270314T020000
END:DAYLIGHT
END:VTIMEZONE
BEGIN:VEVENT
UID:f531329c-2379-440d-8acd-7ed3cf113975
DTSTAMP:20260424T061221Z
DESCRIPTION:
DTSTART;TZID=America/Chicago:20260415T050000
DTEND;TZID=America/Chicago:20260415T050001
LOCATION:Boy Scout Woods\, Bolivar Flats\, and Smith Oaks Sanctuaries
SUMMARY:Coastal Guided Bird Walks
END:VEVENT
END:VCALENDAR
