BEGIN:VCALENDAR
VERSION:2.0
PRODID:-//houstonaudubon.org//NONSGML kigkonsult.se iCalcreator 2.30.10//
CALSCALE:GREGORIAN
METHOD:PUBLISH
UID:15e3b754-0aa0-4536-a21d-b3b0bc78cee5
X-WR-CALDESC:
X-WR-RELCALID:68b515ade3770c2b7bbbae3d709e6316
X-WR-TIMEZONE:America/Chicago
BEGIN:VTIMEZONE
TZID:America/Chicago
BEGIN:STANDARD
TZNAME:CST
DTSTART:20251102T020000
TZOFFSETFROM:-0500
TZOFFSETTO:-0600
RDATE:20261101T020000
END:STANDARD
BEGIN:DAYLIGHT
TZNAME:CDT
DTSTART:20260308T020000
TZOFFSETFROM:-0600
TZOFFSETTO:-0500
RDATE:20270314T020000
END:DAYLIGHT
END:VTIMEZONE
BEGIN:VEVENT
UID:f92e2470-589b-44e9-af66-d97887181958
DTSTAMP:20260424T055745Z
DESCRIPTION:
DTSTART;TZID=America/Chicago:20260407T080000
DTEND;TZID=America/Chicago:20260407T100000
LOCATION:Lorraine Cherry Nature Preserve
SUMMARY:Lorraine Cherry Bird Survey
END:VEVENT
END:VCALENDAR
