BEGIN:VCALENDAR
VERSION:2.0
PRODID:-//houstonaudubon.org//NONSGML kigkonsult.se iCalcreator 2.30.10//
CALSCALE:GREGORIAN
METHOD:PUBLISH
UID:79bc0c88-5261-489c-b589-95ed43256f1e
X-WR-CALDESC:
X-WR-RELCALID:49b4290bea9c2f985f034bbedf35f416
X-WR-TIMEZONE:America/Chicago
BEGIN:VTIMEZONE
TZID:America/Chicago
BEGIN:STANDARD
TZNAME:CST
DTSTART:20251102T020000
TZOFFSETFROM:-0500
TZOFFSETTO:-0600
RDATE:20261101T020000
END:STANDARD
BEGIN:DAYLIGHT
TZNAME:CDT
DTSTART:20260308T020000
TZOFFSETFROM:-0600
TZOFFSETTO:-0500
RDATE:20270314T020000
END:DAYLIGHT
END:VTIMEZONE
BEGIN:VEVENT
UID:a3178720-b2de-4252-9b74-5d60de849e75
DTSTAMP:20260424T055945Z
DESCRIPTION:
DTSTART;TZID=America/Chicago:20260406T103000
DTEND;TZID=America/Chicago:20260406T113000
LOCATION:Edith L. Moore Nature Sanctuary log cabin
SUMMARY:Stories & Crafts in the Cabin
END:VEVENT
END:VCALENDAR
