BEGIN:VCALENDAR
VERSION:2.0
PRODID:-//houstonaudubon.org//NONSGML kigkonsult.se iCalcreator 2.30.10//
CALSCALE:GREGORIAN
METHOD:PUBLISH
UID:6143a5ea-3c94-4f81-82d1-c262411bcf59
X-WR-CALDESC:
X-WR-RELCALID:17c78b4980cf1cedf694769a353554fd
X-WR-TIMEZONE:America/Chicago
BEGIN:VTIMEZONE
TZID:America/Chicago
BEGIN:STANDARD
TZNAME:CST
DTSTART:20251102T020000
TZOFFSETFROM:-0500
TZOFFSETTO:-0600
RDATE:20261101T020000
END:STANDARD
BEGIN:DAYLIGHT
TZNAME:CDT
DTSTART:20260308T020000
TZOFFSETFROM:-0600
TZOFFSETTO:-0500
RDATE:20270314T020000
END:DAYLIGHT
END:VTIMEZONE
BEGIN:VEVENT
UID:0b07316c-563e-4109-a41f-68226fe7d106
DTSTAMP:20260424T061921Z
DESCRIPTION:
DTSTART;TZID=America/Chicago:20260406T073000
DTEND;TZID=America/Chicago:20260406T103000
LOCATION:Creekside Park West
SUMMARY:Spring Creek Bird Survey
END:VEVENT
END:VCALENDAR
