BEGIN:VCALENDAR
VERSION:2.0
PRODID:-//houstonaudubon.org//NONSGML kigkonsult.se iCalcreator 2.30.10//
CALSCALE:GREGORIAN
METHOD:PUBLISH
UID:a97daab5-1fdc-41e8-ba3b-dfb95807e3fd
X-WR-CALDESC:Secret Lives of Warblers
X-WR-RELCALID:8b41c1566fdd5f09264013bf2207bab7
X-WR-TIMEZONE:America/Chicago
BEGIN:VTIMEZONE
TZID:America/Chicago
BEGIN:STANDARD
TZNAME:CST
DTSTART:20251102T020000
TZOFFSETFROM:-0500
TZOFFSETTO:-0600
RDATE:20261101T020000
END:STANDARD
BEGIN:DAYLIGHT
TZNAME:CDT
DTSTART:20260308T020000
TZOFFSETFROM:-0600
TZOFFSETTO:-0500
RDATE:20270314T020000
END:DAYLIGHT
END:VTIMEZONE
BEGIN:VEVENT
UID:3f560e4f-4ac2-4aaf-9e0a-376172df4cda
DTSTAMP:20260424T060847Z
DESCRIPTION:Secret Lives of Warblers
DTSTART;TZID=America/Chicago:20260405T100000
DTEND;TZID=America/Chicago:20260405T110000
LOCATION:Morse Field Station at High Island
SUMMARY:High Island Birding Class
END:VEVENT
END:VCALENDAR
